BEGIN:VCALENDAR
VERSION:2.0
PRODID:-//Gardeners Club - ECPv6.15.18//NONSGML v1.0//EN
CALSCALE:GREGORIAN
METHOD:PUBLISH
X-ORIGINAL-URL:https://www.gardeners-club.co.uk
X-WR-CALDESC:Events for Gardeners Club
REFRESH-INTERVAL;VALUE=DURATION:PT1H
X-Robots-Tag:noindex
X-PUBLISHED-TTL:PT1H
BEGIN:VTIMEZONE
TZID:UTC
BEGIN:STANDARD
TZOFFSETFROM:+0000
TZOFFSETTO:+0000
TZNAME:UTC
DTSTART:20160101T000000
END:STANDARD
END:VTIMEZONE
BEGIN:VEVENT
DTSTART;VALUE=DATE:20170818
DTEND;VALUE=DATE:20170821
DTSTAMP:20260422T152010
CREATED:20170104T155604Z
LAST-MODIFIED:20170104T160105Z
UID:5642-1503014400-1503273599@www.gardeners-club.co.uk
SUMMARY:RHS Rosemoor Flower Show
DESCRIPTION:The RHS Garden at Rosemoor will host its first Flower Show in 2017. Following on from the success at its sister gardens\, the RHS Rosemoor Flower Show is likely to be an event worth visiting. The show will highlight the best from South West nurseries. \nShow Website
URL:https://www.gardeners-club.co.uk/event/rhs-rosemoor-flower-show/
LOCATION:RHS Garden Rosemoor\, Great Torrington\, Devon\, EX38 8PH\, United Kingdom
CATEGORIES:Flower Show,Flower Shows,Horticultural Show,RHS,Summer
END:VEVENT
BEGIN:VEVENT
DTSTART;VALUE=DATE:20170325
DTEND;VALUE=DATE:20170327
DTSTAMP:20260422T152010
CREATED:20170120T134735Z
LAST-MODIFIED:20170120T162317Z
UID:5785-1490400000-1490572799@www.gardeners-club.co.uk
SUMMARY:Gardens Illustrated Festival
DESCRIPTION:Now in its second year\, the Gardens Illustrated Festival is taking place at Westonbirt School in the Cotswolds. The programme includes talks\, garden plant and design garden related shopping.
URL:https://www.gardeners-club.co.uk/event/gardens-illustrated-festival/
LOCATION:Westonbirt School\, TETBURY\, GL8 8QG
CATEGORIES:Flower Show,Flower Shows,Horticultural Show,Spring
ATTACH;FMTTYPE=image/jpeg:https://www.gardeners-club.co.uk/wp-content/uploads/2017/01/GI-web.jpg
END:VEVENT
END:VCALENDAR