BEGIN:VCALENDAR
VERSION:2.0
PRODID:-//Gardeners Club - ECPv6.15.18//NONSGML v1.0//EN
CALSCALE:GREGORIAN
METHOD:PUBLISH
X-ORIGINAL-URL:https://www.gardeners-club.co.uk
X-WR-CALDESC:Events for Gardeners Club
REFRESH-INTERVAL;VALUE=DURATION:PT1H
X-Robots-Tag:noindex
X-PUBLISHED-TTL:PT1H
BEGIN:VTIMEZONE
TZID:UTC
BEGIN:STANDARD
TZOFFSETFROM:+0000
TZOFFSETTO:+0000
TZNAME:UTC
DTSTART:20150101T000000
END:STANDARD
END:VTIMEZONE
BEGIN:VEVENT
DTSTART;TZID=UTC:20160619T140000
DTEND;TZID=UTC:20160619T170000
DTSTAMP:20260420T174826
CREATED:20160314T164954Z
LAST-MODIFIED:20160314T164954Z
UID:4876-1466344800-1466355600@www.gardeners-club.co.uk
SUMMARY:Heydon Hall and Village Open Gardens Day
DESCRIPTION:A wonderful opportunity to explore the gardens of Heydon Hall – which are rarely open to the public – plus gardens of picturesque Heydon village. \nWe invite you to visit one of the prettiest villages in Norfolk and take a stroll through the gardens of Heydon Hall\, The Grange\, The Old Rectory\, The Old Cottage\, Poppyland and others.  \nThere will also be a display by North Norfolk Classic Vehicle Club\, entertainment by Holt Ridge Morris dancers\, a plant and produce stall\, plus refreshments on the village green. \nHeydon is one of less than a dozen privately owned villages in Great Britain and became Norfolk’s first conservation area in 1971. Heydon is also currently home to six County Wildlife Sites. Heydon has won Best Kept Village on two occasions and has been the setting of numerous film and TV productions.
URL:https://www.gardeners-club.co.uk/event/heydon-hall-village-open-gardens-day/
LOCATION:Heydon Village\, Heydon\, Norwich\, Norfolk\, NR11 6AD\, United Kingdom
ATTACH;FMTTYPE=image/jpeg:https://www.gardeners-club.co.uk/wp-content/uploads/2016/03/North-Norfolk-Classic-Vehicle-Club-in-front-of-Heydon-Hall-800.jpg
END:VEVENT
END:VCALENDAR