BEGIN:VCALENDAR
VERSION:2.0
PRODID:-//Gardeners Club - ECPv6.15.18//NONSGML v1.0//EN
CALSCALE:GREGORIAN
METHOD:PUBLISH
X-WR-CALNAME:Gardeners Club
X-ORIGINAL-URL:https://www.gardeners-club.co.uk
X-WR-CALDESC:Events for Gardeners Club
REFRESH-INTERVAL;VALUE=DURATION:PT1H
X-Robots-Tag:noindex
X-PUBLISHED-TTL:PT1H
BEGIN:VTIMEZONE
TZID:UTC
BEGIN:STANDARD
TZOFFSETFROM:+0000
TZOFFSETTO:+0000
TZNAME:UTC
DTSTART:20150101T000000
END:STANDARD
END:VTIMEZONE
BEGIN:VEVENT
DTSTART;VALUE=DATE:20160603
DTEND;VALUE=DATE:20160605
DTSTAMP:20260420T174540
CREATED:20160218T134921Z
LAST-MODIFIED:20160218T135028Z
UID:4687-1464912000-1465084799@www.gardeners-club.co.uk
SUMMARY:RHS London Rose Show
DESCRIPTION:For the second year running the RHS Lawrence Hall will hold the RHS London Rose Show. Running from 3-4 June\, this event is growing in its number of exhibitors constantly. Come and celebrate England’s favourite flower and support specialist rose growers and florists. You will be able to admire stunning rose displays\, gain advice and tips on how to grow and take care of roses\, and learn about different varieties. \nHighlights of 2015\nLast years show saw a number of marvellous exhibits and talks on offer. Among the many highlights were: \n\nWonderful displays from Harkness\, including the vibrant Rosa Bridge of Sighs ‘Harglowing’\nThe Historic Roses Group of the National Rose Society\, displaying modern roses alongside historic selections.\nStalls with rose-related products\nThe National Association of Flower Arrangement Societies (NAFAS) showing what can be done with a variety of colour themed displays in vases\n\nSee the list of exhibitors at the 2015 show (265kB pdf) \nSee the programme of talks at the 2015 show (355kB pdf) \nThe 2016 RHS London Rose Show is the place to be if you are a lover of roses so make sure you come and take part in this annual gala. \nFor more information head over to https://www.rhs.org.uk/shows-events/rhs-london-shows/rhs-london-rose-show
URL:https://www.gardeners-club.co.uk/event/rhs-london-rose-show/
END:VEVENT
BEGIN:VEVENT
DTSTART;VALUE=DATE:20160603
DTEND;VALUE=DATE:20160606
DTSTAMP:20260420T174540
CREATED:20160219T142154Z
LAST-MODIFIED:20160219T142154Z
UID:4718-1464912000-1465171199@www.gardeners-club.co.uk
SUMMARY:Gardening Scotland
DESCRIPTION:Gardening Scotland is the National Gardening and Outdoor Living Show\nIf you want to find the best plants\, catch the latest gardening trends\, find a designer to transform your own garden or ask the experts about anything from growing vegetables to keeping bees\, then this is the one Show that you won’t want to miss!
URL:https://www.gardeners-club.co.uk/event/gardening-scotland/
LOCATION:Royal Highland Centre\, Ingliston\, Edinburgh\, Scotland\, EH28 8NB\, United Kingdom
END:VEVENT
END:VCALENDAR