BEGIN:VCALENDAR
VERSION:2.0
PRODID:-//Gardeners Club - ECPv6.15.18//NONSGML v1.0//EN
CALSCALE:GREGORIAN
METHOD:PUBLISH
X-ORIGINAL-URL:https://www.gardeners-club.co.uk
X-WR-CALDESC:Events for Gardeners Club
REFRESH-INTERVAL;VALUE=DURATION:PT1H
X-Robots-Tag:noindex
X-PUBLISHED-TTL:PT1H
BEGIN:VTIMEZONE
TZID:UTC
BEGIN:STANDARD
TZOFFSETFROM:+0000
TZOFFSETTO:+0000
TZNAME:UTC
DTSTART:20150101T000000
END:STANDARD
END:VTIMEZONE
BEGIN:VEVENT
DTSTART;VALUE=DATE:20160401
DTEND;VALUE=DATE:20160403
DTSTAMP:20260420T203008
CREATED:20160218T134537Z
LAST-MODIFIED:20160218T134537Z
UID:4686-1459468800-1459641599@www.gardeners-club.co.uk
SUMMARY:RHS London Spring Plant Extravaganza
DESCRIPTION:The RHS Horticultural Halls will host The RHS London Spring Plant Extravaganza featuring the RHS London Orchid Show from 1-2 April 2016. In the RHS Lindley Hall\, you will encounter large displays from professional growers\, orchid societies and botanical gardens from around the world. You will be able to enjoy a spectacular array of exotic orchids\, learn about their extraordinary history\, wonder at their unique beauty and buy some highly collectible and new species. \nIn addition\, when you visit the RHS Lawrence Hall you will be able to: \n\nGather inspiration from nurseries and trade stands showing their spring wares\nFind the very best plants to buy\nListen to a full programme of talks\nGain tips and advice from the growers themselves\n\nTickets are also available for the exclusive late event where visitors can be the first to experience all the show has to offer in this special after-hours event\, with live entertainment\, wine\, and canapés. \n  \nFor more information visit https://www.rhs.org.uk/shows-events/rhs-london-shows/rhs-london-spring-plant-extravaganza
URL:https://www.gardeners-club.co.uk/event/rhs-london-spring-plant-extravaganza/
END:VEVENT
END:VCALENDAR